Workbook

Sheet Emer. y compromisos
F3: REGLAS PARA LA DETERMINACIÓN DE LA INFORMACIÓN DE INTERÉS NACIONAL
F4: Formato Regla Décima. Información Estadística
B8: 4. ATENCIÓN DE EMERGENCIAS O COMPROMISOS INTERNACIONALES
B10: 4.1 ¿Cuáles de los siguientes organismos han declarado de utilidad la información propuesta para prevenir o atender desastres naturales?
C11: (Marque las opciones correspondientes)
F13: 1. Sistema Nacional de Protección civil
F15: 2. Centro Nacional de Prevención de Desastres
F17: 3. Ninguno
F19: 4. Otro
I20: Especifique
B22: 4.2 ¿La información estadística propuesta se utiliza para atender acuerdos, tratados o compromisos establecidos a nivel internacional?
B23: (Marque la opción correspondiente. Si selecciona la opción "Sí", especifique el nombre de los compromisos y organismos o países; si selecciona la opción "No", deje en blanco 4.3)
C26: =+E120 -> Especifique
B27: Nombre del acuerdo, tratado o compromiso internacional | K27: Nombre del organismo o país con el que se estableció
B28: 1
B29: 2
B30: 3
B31: 4
B32: 5
B34: 4.3 ¿El compromiso internacional ha sido suscrito por el Presidente de la República y aprobado por el Senado?
O37: Anexar copia del documento aprobatorio o comprobatorio y/o observaciones
A42: 3.4a2 | C42: =ISTEXT(#REF!) -> FALSE | E42: =IF(C42=TRUE,MID(#REF!,1,500), "No declarado") -> No declarado | J42: / | K42: =CONCATENATE(E40,J42,E42,J42,E43,J42,E44,J42,E45,J42,E46,J42,E47,J42,E48,J42,E49,J42,E50,J42,E51,J42,E52,J42,E53) -> / No declarado / No declarado / No declarado / No declarado / No declarado / No declarado / No declarado / No declarado / No declarado / No declarado / No declarado / No declarado
A43: 3.4a3 | C43: =ISTEXT(#REF!) -> FALSE | E43: =IF(C43=TRUE,MID(#REF!,1,500), "No declarado") -> No declarado
A44: 3.4a4 | C44: =ISTEXT(#REF!) -> FALSE | E44: =IF(C44=TRUE,MID(#REF!,1,500), "No declarado") -> No declarado
A45: 3.4a5 | C45: =ISTEXT(#REF!) -> FALSE | E45: =IF(C45=TRUE,MID(#REF!,1,500), "No declarado") -> No declarado
A46: 3.4a6 | C46: =ISTEXT(#REF!) -> FALSE | E46: =IF(C46=TRUE,MID(#REF!,1,500), "No declarado") -> No declarado
A47: 3.4a7 | C47: =ISTEXT(#REF!) -> FALSE | E47: =IF(C47=TRUE,MID(#REF!,1,500), "No declarado") -> No declarado
A48: 3.4a8 | C48: =ISTEXT(#REF!) -> FALSE | E48: =IF(C48=TRUE,MID(#REF!,1,500), "No declarado") -> No declarado
A49: 3.4a9 | C49: =ISTEXT(#REF!) -> FALSE | E49: =IF(C49=TRUE,MID(#REF!,1,500), "No declarado") -> No declarado
A50: 3.4a10 | C50: =ISTEXT(#REF!) -> FALSE | E50: =IF(C50=TRUE,MID(#REF!,1,500), "No declarado") -> No declarado
A51: 3.4a11 | C51: =ISTEXT(#REF!) -> FALSE | E51: =IF(C51=TRUE,MID(#REF!,1,500), "No declarado") -> No declarado
A52: 3.4a12 | C52: =ISTEXT(#REF!) -> FALSE | E52: =IF(C52=TRUE,MID(#REF!,1,500), "No declarado") -> No declarado
A53: 3.4a13 | C53: =ISTEXT(#REF!) -> FALSE | E53: =IF(C53=TRUE,MID(#REF!,1,500), "No declarado") -> No declarado
A55: 3.4b1 | C55: =ISTEXT(#REF!) -> FALSE | E55: =IF(C55=TRUE,MID(#REF!,1,500), "No declarado") -> No declarado | K55: =CONCATENATE(E55,J42,E56,J42,E57,J42,E58,J42,E59,J42,E60,J42,E61,J42,E62,J42,E63,J42,E64,J42,E65,J42,E66,J42,E67) -> No declarado / No declarado / No declarado / No declarado / No declarado / No declarado / No declarado / No declarado / No declarado / No declarado / No declarado / No declarado / No declarado
A56: 3.4b2 | C56: =ISTEXT(#REF!) -> FALSE | E56: =IF(C56=TRUE,MID(#REF!,1,500), "No declarado") -> No declarado
A57: 3.4b3 | C57: =ISTEXT(#REF!) -> FALSE | E57: =IF(C57=TRUE,MID(#REF!,1,500), "No declarado") -> No declarado
A58: 3.4b4 | C58: =ISTEXT(#REF!) -> FALSE | E58: =IF(C58=TRUE,MID(#REF!,1,500), "No declarado") -> No declarado
A59: 3.4b5 | C59: =ISTEXT(#REF!) -> FALSE | E59: =IF(C59=TRUE,MID(#REF!,1,500), "No declarado") -> No declarado
A60: 3.4b6 | C60: =ISTEXT(#REF!) -> FALSE | E60: =IF(C60=TRUE,MID(#REF!,1,500), "No declarado") -> No declarado
A61: 3.4b7 | C61: =ISTEXT(#REF!) -> FALSE | E61: =IF(C61=TRUE,MID(#REF!,1,500), "No declarado") -> No declarado | J61: /
...

Sheet 1.Metadato
E3: FORMATO ADAPTADO DEL CATÁLOGO NACIONAL DE INDICADORES PARA LA INTEGRACIÓN Y DIFUSIÓN DE METADATOS
B8: 1. METADATO DE LA FAMILIA DE INDICADORES
B9: 1.1 Características generales de la familia de indicadores
B10: En caso de contar con desagregaciones conceptuales, se debe generar una hoja de metadato para cada una de ellas.
B11: 1.1.1 Nombre: El nombre del indicador debe coincidir con el publicado en la página web de la Unidad del Estado, cuando así corresponda.
C13: Personas extranjeras con residencia regular en México
B15: 1.1.2 Definición: Señale la descripción del indicador de acuerdo con las variables o conceptos que lo conforman.
C17: Número de persona extranjera que obtuvieron un permiso de residencia temporal o permanente para permanecer en México por un periodo de por lo menos un año.
B19: 1.1.3 Forma de cálculo: Señale el algoritmo y las variables utilizadas en el cálculo del indicador.
C21: ER = ERT + ERP+ ERH ER= Número de personas extranjeras con residencia regular en México ERT = Número de personas extranjeras que obtuvieron un permiso de residencia temporal en México para permanecer en México por un periodo de por lo menos un año. ERP = Número de personas extranjeras que obtuvieron un permiso de residencia permanente en México. ERH = Número de personas extranjeras que obtuvieron un permiso de residencuia temporal en México por causa humanitaria para permanecer en México por un periodo de por lo menos un año.
B23: 1.1.4 Unidad de medida: Indique la unidad de medida a la que están referenciados los valores del indicador. Ejemplo: Personas adultas mayores por cada 100 niños.
C25: Número de personas
B27: 1.1.5 Cobertura geográfica: Especifique el desglose geográfico del indicador. Ejemplo: Nacional y Estatal.
C29: Nacional y estatal
B31: 1.1.6 Periodicidad: Indique la frecuencia con la que se calcula el indicador.
F33: Quinquenal
F34: Anual
F35: Semestral
F36: Trimestral
D37: TRUE
D38: TRUE | F38: Bimestral
D39: FALSE
D40: FALSE | F40: Mensual
D41: FALSE
D42: FALSE | F42: Otro | G42: Especifique: | H42: Mensual y anual
B44: 1.1.7 Oportunidad: Indique cuál es el tiempo entre la fecha final del periodo de referencia y la fecha en que se hace público el indicador. Ejemplo: 54 días después de concluido el trimestre.
C46: Datos oportunos: un mes después de haber concluido el mes calendario Datos definitivos: seis meses después después de haber concluido el año de referencia
B48: 1.1.8 Cobertura temporal: Indique a partir de qué fecha el indicador propuesto cumple con los criterios para su determinación como Clave. La serie histórica debe ser comparable en el tiempo. Ejemplo: A partir de 2000 a la fecha, serie continua.
C50: A partir de 2013 a la fecha, serie continua
B52: 1.1.9 Periodo base: Indique el momento temporal que se toma como base para un dato o número Índice. En caso contrario, especifique "No aplica". Ejemplo: Año base 2008.
C54: No aplica
B56: 1.1.10 Periodo de referencia: Señale el periodo de tiempo o momento específico al que está referida la información. Ejemplo: Inicio del ciclo escolar.
C58: Fin del año calendario
B60: 1.1.11 Observaciones o precisiones técnicas: En caso necesario, proporcione información de relevancia para el entendimiento del indicador.
C62: La información hace referencia al número de personas extranjeras a las que se les utoriza la residencia en México y que obtuvieron su documento migratorio. Aunque la información se publica mensualmente, la versión validada de dicha información se publica en junio del año posterior al cierre
B64: 1.2 Proyectos estadísticos/geográficos a partir de los cuales se obtiene la información para el cálculo de los indicadores
B65: Indicar los proyectos estadísticos/geográficos de los cuales se obtiene la información para el cálculo del indicador: Incorpore todas las variables que se reportan en la forma de cálculo y los proyectos estadísticos/geográficos correspondientes.
B66: Proyecto estadístico/geográfico A:
B67: 1.2.1 Nombre:
C69: Aprovechamiento de registros admistrativos con fines estadísticos
...

Sheet 2.Series estadísticas
E3: FORMATO ADAPTADO DEL CATÁLOGO NACIONAL DE INDICADORES PARA LA INTEGRACIÓN Y DIFUSIÓN DE METADATOS
B8: 2. SERIES ESTADÍSTICAS DE LA FAMILIA DE INDICADORES Y DE LOS INSUMOS PARA SU CÁLCULO
B9: 2.1 Series estadísticas de la familia de indicadores
B10: 2.1.1 Liste las series estadísticas incluidas en la propuesta de acuerdo con la desagregación: conceptual, por sexo y geográfica del indicador y considerando el periodo señalado en la cobertura temporal.
C12: Ejemplo: | D12: Total de entradas por año, y por desglose de extranjeros vs. mexicanos
C13: Características de la familia de indicadores
C14: 1. Desagregación conceptual: | F14: Personas con estancia regular a México | H14: 2. Desagregación por sexo: | J14: Si
C15: 3. Desagregación geográfica: | F15: Nacional | H15: 4. Cobertura temporal: | J15: A partir de 2013
C17: Series estadísticas de la familia de indicadores según sus características:
C18: 1 Total de personas extranjeras con residencia temporal en México; total; nacional y estatal,anual y mensual, 2013 a la fecha
C19: 2 Total de personas extranjeras con residencia permanente en México; total; nacional y estatal,anual y mensual, 2013 a la fecha
C20: 3 Total de personas extranjeras con residencia temporal por causa humanitaria en México; total; nacional y estatal,anual y mensual, 2013 a la fecha
C21: 4 Total de personas extranjeras con residencia temporal en México; categoria de inmigración; nacional, anual y periodo acumuldo, 2013 a la fecha
C22: 5 Total de personas extranjeras con residencia permanente en México; categoria de inmigración; nacional, anual y periodo acumuldo, 2013 a la fecha
C23: 6 Total de personas extranjeras con residencia temporal por causa humanitaria en Méxic; categoria de inmigración; nacional, anual y periodo acumuldo, 2013 a la fecha
C24: 7 Total de personas extranjeras con residencia temporal en México; país de nacionalidad; nacional y estatal, anual y mensual, 2013 a la fecha
C25: 8 Total de personas extranjeras con residencia permanente en México; país de nacionalidad; nacional y estatal, anual y mensual, 2013 a la fecha
C26: 9 Total de personas extranjeras con residencia temporal por causa humanitaria en México; país de nacionalidad; nacional y estatal, anual y mensual, 2013 a la fecha
C27: 10 Total de personas extranjeras con residencia temporal en México; sexo; nacional y estatal, anual y mensual, 2013 a la fecha
C28: 11 Total de personas extranjeras con residencia permanente en México; sexo; nacional y estatal, anual y mensual, 2013 a la fecha
C29: 12 Total de personas extranjeras con residencia temporal por causa humanitaria en México; sexo; nacional y estatal, anual y mensual, 2013 a la fecha
B31: 2.2 Series estadísticas utilizadas en el cálculo de la familia de indicadores
B32: 2.2.1 Liste las series estadísticas utilizadas en el cálculo del indicador conforme a las características indicadas anteriormente.
C34: Ejemplo: | D34: Tasa de absorción en educación según nivel de escolaridad
C36: Series estadísticas para el cálculode la familia de indicadores
C37: Personas con residencia regular en México por entidad federetiva, categoria de inmigración, país de nacionalidad
B50: Para la integración del archivo con las series estadísticas, consulte la hoja: Envío series est.incluida al final de este formato y en la cual se especifica la forma en que deberán de remitirse las series correspondientes.

Sheet BASE DE DATOS
A1: NUMERO | C1: DESCRIPCION
A2: 1.1 | C2: =+#REF! -> #REF! | E2: =IF(C2="No declarado", "") -> #REF!
A3: 1.2 | C3: =+#REF! -> #REF! | D3: =IF(C3<>"No declarado", MID(C3,1,100),"") -> #REF! | E3: =IF(C3="No declarado", "") -> #REF!
A4: 1.3 | C4: =+#REF! -> #REF! | D4: =IF(C4<>"No declarado", MID(C4,1,100),"") -> #REF! | E4: =IF(C4="No declarado", "") -> #REF!
A5: 1.4 | C5: =+#REF! -> #REF! | D5: =IF(C5<>"No declarado", MID(C5,1,100),"") -> #REF! | E5: =IF(C5="No declarado", "") -> #REF!
A6: 1.5 | C6: =+#REF! -> #REF! | D6: =IF(C6<>"No declarado", MID(C6,1,100),"") -> #REF! | E6: =IF(C6="No declarado", "") -> #REF!
A7: 1.6 | C7: =+#REF! -> #REF! | D7: =IF(C7<>"No declarado", MID(C7,1,100),"") -> #REF! | E7: =IF(C7="No declarado", "") -> #REF!
A8: 1.7 | C8: =+#REF! -> #REF! | D8: =IF(C8<>"No declarado", MID(C8,1,100),"") -> #REF! | E8: =IF(C8="No declarado", "") -> #REF!
A9: 2.1 | C9: =+#REF! -> #REF! | D9: =IF(C9<>"No declarado", MID(C9,1,100),"") -> #REF! | E9: =IF(C9="No declarado", "") -> #REF!
A10: 2.2a | C10: =+#REF! -> #REF! | D10: =IF(C10<>"No declarado", MID(C10,1,100),"") -> #REF! | E10: =IF(C10="No declarado", "") -> #REF!
A11: 2.2b | C11: =+#REF! -> #REF! | D11: =IF(C11<>"No declarado", MID(C11,1,100),"") -> #REF! | E11: =IF(C11="No declarado", "") -> #REF!
A12: 2.2c | C12: =+#REF! -> #REF! | D12: =IF(C12<>"No declarado", MID(C12,1,100),"") -> #REF! | E12: =IF(C12="No declarado", "") -> #REF!
A13: 2.2d | C13: =+#REF! -> #REF! | D13: =IF(C13<>"No declarado", MID(C13,1,100),"") -> #REF! | E13: =IF(C13="No declarado", "") -> #REF!
A14: 2.2e | C14: =+#REF! -> #REF! | D14: =IF(C14<>"No declarado", MID(C14,1,100),"") -> #REF! | E14: =IF(C14="No declarado", "") -> #REF!
A15: 2.2f | C15: =+#REF! -> #REF! | D15: =IF(C15<>"No declarado", MID(C15,1,100),"") -> #REF! | E15: =IF(C15="No declarado", "") -> #REF!
A16: 3.1a | C16: =+#REF! -> #REF! | D16: =IF(C16<>"No declarado", MID(C16,1,100),"") -> #REF! | E16: =IF(C16="No declarado", "") -> #REF!
A17: 3.1b | C17: =+#REF! -> #REF! | D17: =IF(C17<>"No declarado", MID(C17,1,100),"") -> #REF! | E17: =IF(C17="No declarado", "") -> #REF!
A18: 3.21 | C18: =+#REF! -> #REF! | D18: =IF(C18<>"No declarado", MID(C18,1,100),"") -> #REF! | E18: =IF(C18="No declarado", "") -> #REF!
A19: 3.2.1a | C19: =+#REF! -> #REF! | D19: =IF(C19<>"No declarado", MID(C19,1,100),"") -> #REF! | E19: =IF(C19="No declarado", "") -> #REF!
A20: 3.2.1b | C20: =+#REF! -> #REF! | D20: =IF(C20<>"No declarado", MID(C20,1,100),"") -> #REF! | E20: =IF(C20="No declarado", "") -> #REF!
A21: 3.2.1c | C21: =+#REF! -> #REF! | D21: =IF(C21<>"No declarado", MID(C21,1,100),"") -> #REF! | E21: =IF(C21="No declarado", "") -> #REF!
A22: 3.2.1d | C22: =+#REF! -> #REF! | D22: =IF(C22<>"No declarado", MID(C22,1,100),"") -> #REF! | E22: =IF(C22="No declarado", "") -> #REF!
A23: 3.22 | C23: =+#REF! -> #REF! | D23: =IF(C23<>"No declarado", MID(C23,1,100),"") -> #REF! | E23: =IF(C23="No declarado", "") -> #REF!
A24: 3.2.2a | C24: =+#REF! -> #REF! | D24: =IF(C24<>"No declarado", MID(C24,1,100),"") -> #REF! | E24: =IF(C24="No declarado", "") -> #REF!
A25: 3.2.2b | C25: =+#REF! -> #REF! | D25: =IF(C25<>"No declarado", MID(C25,1,100),"") -> #REF! | E25: =IF(C25="No declarado", "") -> #REF!
A26: 3.2.2c | C26: =+#REF! -> #REF! | D26: =IF(C26<>"No declarado", MID(C26,1,100),"") -> #REF! | E26: =IF(C26="No declarado", "") -> #REF!
A27: 3.2.2d | C27: =+#REF! -> #REF! | D27: =IF(C27<>"No declarado", MID(C27,1,100),"") -> #REF! | E27: =IF(C27="No declarado", "") -> #REF!
A28: 3.23 | C28: =+#REF! -> #REF! | D28: =IF(C28<>"No declarado", MID(C28,1,100),"") -> #REF! | E28: =IF(C28="No declarado", "") -> #REF!
A29: 3.2.3a | C29: =+#REF! -> #REF! | D29: =IF(C29<>"No declarado", MID(C29,1,100),"") -> #REF! | E29: =IF(C29="No declarado", "") -> #REF!
A30: 3.2.3b | C30: =+#REF! -> #REF! | D30: =IF(C30<>"No declarado", MID(C30,1,100),"") -> #REF! | E30: =IF(C30="No declarado", "") -> #REF!
A31: 3.2.3c | C31: =+#REF! -> #REF! | D31: =IF(C31<>"No declarado", MID(C31,1,100),"") -> #REF! | E31: =IF(C31="No declarado", "") -> #REF!
A32: 3.2.3d | C32: =+#REF! -> #REF! | D32: =IF(C32<>"No declarado", MID(C32,1,100),"") -> #REF! | E32: =IF(C32="No declarado", "") -> #REF!
A33: 3.3 | C33: =+#REF! -> #REF! | D33: =IF(C33<>"No declarado", MID(C33,1,100),"") -> #REF! | E33: =IF(C33="No declarado", "") -> #REF!
A34: 3.4a1 | C34: =+'Emer. y compromisos'!E40 -> 0 | D34: =IF(C34<>"No declarado", MID(C34,1,100),"") -> 0 | E34: =IF(C34="No declarado", "") -> FALSE
A35: 3.4a2 | C35: =+'Emer. y compromisos'!E42 -> No declarado | D35: =IF(C35<>"No declarado", MID(C35,1,100),"") | E35: =IF(C35="No declarado", "")
A36: 3.4a3 | C36: =+'Emer. y compromisos'!E43 -> No declarado | D36: =IF(C36<>"No declarado", MID(C36,1,100),"") | E36: =IF(C36="No declarado", "")
A37: 3.4a4 | C37: =+'Emer. y compromisos'!E44 -> No declarado | D37: =IF(C37<>"No declarado", MID(C37,1,100),"") | E37: =IF(C37="No declarado", "")
A38: 3.4a5 | C38: =+'Emer. y compromisos'!E45 -> No declarado | D38: =IF(C38<>"No declarado", MID(C38,1,100),"") | E38: =IF(C38="No declarado", "")
A39: 3.4a6 | C39: =+'Emer. y compromisos'!E46 -> No declarado | D39: =IF(C39<>"No declarado", MID(C39,1,100),"") | E39: =IF(C39="No declarado", "")
A40: 3.4a7 | C40: =+'Emer. y compromisos'!E47 -> No declarado | D40: =IF(C40<>"No declarado", MID(C40,1,100),"") | E40: =IF(C40="No declarado", "")
...

Sheet Hoja 1
B1: subsistemas | C1: Personas | E1: Año | H1: Trimestre | K1: Mes | N1: Día | O1: Órden | P1: Atributo
B2: Demográfica y Social | C2: 1 | D2: 1 | E2: 1980 | G2: 1 | H2: Primer | J2: 1 | K2: Enero | N2: 1 | O2: Federal | P2: No aplica
B3: Económica | C3: 2 | D3: 2 | E3: 1981 | G3: 2 | H3: Segundo | J3: 2 | K3: Febrero | N3: 2 | O3: Estatal | P3: Ninguno
B4: Geográfica y del Medio Ambiente | C4: 3 | D4: 3 | E4: 1982 | G4: 3 | H4: Tercer | J4: 3 | K4: Marzo | N4: 3 | O4: Municipal
B5: Gobierno, Seguridad Pública e Impartición de Justicia | C5: 4 | D5: 4 | E5: 1983 | G5: 4 | H5: Cuarto | J5: 4 | K5: Abril | N5: 4
C6: 5 | D6: 5 | E6: 1984 | J6: 5 | K6: Mayo | N6: 5
C7: 6 | D7: 6 | E7: 1985 | J7: 6 | K7: Junio | N7: 6
C8: 7 | D8: 7 | E8: 1986 | J8: 7 | K8: Julio | N8: 7
C9: 8 | D9: 8 | E9: 1987 | J9: 8 | K9: Agosto | N9: 8
C10: 9 | D10: 9 | E10: 1988 | J10: 9 | K10: Septiembre | N10: 9
C11: 10 | D11: 10 | E11: 1989 | J11: 10 | K11: Octubre | N11: 10
C12: 11 | D12: 11 | E12: 1990 | J12: 11 | K12: Noviembre | N12: 11
C13: 12 | D13: 12 | E13: 1991 | J13: 12 | K13: Diciembre | N13: 12
C14: 13 | D14: 13 | E14: 1992 | N14: 13
C15: 14 | D15: 14 | E15: 1993 | N15: 14
C16: 15 | D16: 15 | E16: 1994 | N16: 15
C17: 16 | D17: 16 | E17: 1995 | N17: 16
C18: 17 | D18: 17 | E18: 1996 | N18: 17
C19: 18 | D19: 18 | E19: 1997 | N19: 18
C20: 19 | D20: 19 | E20: 1998 | N20: 19
C21: 20 | D21: 20 | E21: 1999 | N21: 20
C22: 21 | D22: 21 | E22: 2000 | N22: 21
C23: 22 | D23: 22 | E23: 2001 | N23: 22
C24: 23 | D24: 23 | E24: 2002 | N24: 23
C25: 24 | D25: 24 | E25: 2003 | N25: 24
... C32: 31 | D32: 31 | E32: 2010 | N32: 31
C33: 32 | D33: 32 | E33: 2011
C34: 33 | D34: 33 | E34: 2012
C35: 34 | D35: 34 | E35: 2013
C36: 35 | D36: 35 | E36: 2014
C37: 36 | D37: 36 | E37: 2015
C38: 37
C39: 38
C40: 39
C41: 40
C42: 41
C43: 42
C44: 43
C45: 44
C46: 45
...

Sheet  

Sheet Ficha 1
D4: Ficha técnica para presentar la propuesta de Información de Interés Nacional
D5: Información Estadística
B9: a) Información propuesta:
B11: b) Tematica:
B13: c) Proponente:
B15: d) Subsistema:
B17: e) Fecha de presentación de propuesta:
B19: A) DATOS DE IDENTIFICACIÓN DEL PROYECTO QUE GENERA LA INFORMACIÓN E INSTITUCIÓN RESPONSABLE
B21: 1. Nombre del proyecto estadístico propuesto:
B23: 2. Nombre de la institución responsable del proyecto:
B25: 3.Inscripción del proyecto en el Registro Estadístico Nacional:
B27: 4. Otras instituciones participantes en el proyecto:
B30: B) FUNDAMENTOS DEL PROYECTO
B31: Políticas públicas de alcance nacional
B32: 5. La información estadística propuesta debe generarse porque lo mandata: | E32: Constitución política de los Estados Unidos Mexicanos Título, capítulo, sección, artículo, fracción, párrafo, fecha de última publicación y observaciones
E35: Ley secundaria Título, capítulo, sección, artículo, fracción, párrafo, fecha de última publicación y observaciones
B40: 6. Uso de la información generada para apoyar el programa de la institución u otro interinstitucional | E40: Plan Nacional de Desarrollo
E41: Especifique el nombre del (los) programa (s) y los objetivos, metas e indicadores relacionados
E43: Objetivos, metas e indicadores relacionados
E45: Programa sectorial, regional o especial
E46: Especifique el nombre del (los) programa (s) y los objetivos, metas e indicadores relacionados
E48: Objetivos, metas e indicadores relacionados
E50: Otro ordenamiento legal
E51: Nombre del ordenamiento, especificaciones, fecha de última publicación y observaciones.
E53: Objetivos, metas e indicadores relacionados

Sheet Ficha 2
D4: Ficha técnica para presentar la propuesta de Información de Interés Nacional
D5: Información Estadística
B9: C) ATENCIÓN DE EMERGENCIAS O COMPROMISOS INTERNACIONALES
B10: Protección civil y prevención de desastres
B11: 7. Uso de la información por sistemas de protección civil o de prevención de desastres naturales
B16: 8. Organismo que utiliza el proyercto para prevenir o atender desastres naturales
B19: Compromisos internacionales
B20: 9. Uso de la información generada para atender compromisos establecidos a nivel internacional
E21: Nombre del acuerdo, tratado o compromiso: | H21: Nombre del organismo o país:
E22: 1
E23: 2
E24: 3
E25: 4
E26: 5
B29: 10. Validación de la Secretaría de Relaciones Exteriores
B32: D) METODOLOGÍA DEL PROYECTO ESTADÍSTICO QUE GENERA LA INFORMACIÓN PROPUESTA:
B33: Método de generación aplicado
B35: 11. Método de generación de información estadística
B38: Soporte técnico
B39: 12. Estándares o recomendaciones de organismos nacionales o internacionales aplicados | E39: Nombre | H39: Organismo elaborador
B49: Unidad de observación
B50: 13. Unidad de observación
B54: Periodicidad o frecuencia de ejecución
B56: 14. Periodicidad o frecuencia de ejecución
B59: 15. Cobertura temporal (Datos más recientes)

Sheet Ficha 3
D4: Ficha técnica para presentar la propuesta de Información de Interés Nacional
D5: Información Estadística
B9: 16. Documentos disponibles en el proyecto (Más recientes) | D9: Documento / Año de elaboración / Institución que lo elaboró
D10: PLANEACIÓN GENERAL | I10: (Se anexa un ejemplar de cada documento señalado)
D19: MARCO CONCEPTUAL
D28: CRITERIOS DE VALIDACIÓN
D37: GLOSARIOS
D46: CLASIFICADORES
D55: CUESTIONARIOS
D64: MARCO DE MUESTREO
D73: MÉTODO PARA LA DETERMINACIÓN DEL TAMAÑO Y SELECCIÓN DE LA MUESTRA
D82: RESULTADOS DEL DISEÑO DE LA MUESTRA
D91: MANUALES OPERATIVOS
D92: Manuales de capacitación
D101: Instructivos de llenado de cuestionarios
D110: Manuales de procedimientos para la captación de datos
... D156: DOCUMENTACIÓN DEL PROYECTO Y RESULTADOS

Sheet Ficha 4
D4: Ficha técnica para presentar la propuesta de Información de Interés Nacional
D5: Información Estadística
B9: 17. Indicadores utilizados para medir la calidad de los procesos | H9: (Se anexa metodología de cálculo de los indicadores utilizados y resultados del operativo más reciente disponibles)
E11: PLANEACIÓN DEL PROYECTO
E14: DISEÑO CONCEPTUAL
E17: DISEÑO DE LA MUESTRA
E20: DISEÑO DE LA CAPTACIÓN
E23: DISEÑO DEL PROCESAMIENTO
E26: OPERATIVO DE CAPTACIÓN
E29: PROCESAMIENTO Y LIBERACIÓN DE DATOS
E32: PRESENTACIÓN Y DIVULGACIÓN DE RESULTADOS
B35: D.4 Soporte técnico
B36: 18. Disponibilidad de certificación o validación dada por algún organismo nacional o internacional | E36: Fase o actividad | G36: Organismo certificador | I36: Periodo que cubre
B45: 19. Tipo de asistencia de organismos nacionales o internacionales | E45: Apoyo técnico | G45: Capacitación
B52: 20. Medio de almacenamiento de la información | G52: Recopilación | I52: Almacenamiento
E53: Formatos o expedientes impresos
E54: Archivos electrónicos en hoja de cálculo
E55: Base de datos
E56: Otro

Sheet Hoja1
