Workbook

Sheet Emer. y compromisos
F3: REGLAS PARA LA DETERMINACIÓN DE LA INFORMACIÓN DE INTERÉS NACIONAL
F4: Formato Regla Décima. Información Estadística
B8: 4. ATENCIÓN DE EMERGENCIAS O COMPROMISOS INTERNACIONALES
B10: 4.1 ¿Cuáles de los siguientes organismos han declarado de utilidad la información propuesta para prevenir o atender desastres naturales?
C11: (Marque las opciones correspondientes)
F13: 1. Sistema Nacional de Protección civil
F15: 2. Centro Nacional de Prevención de Desastres
F17: 3. Ninguno
F19: 4. Otro
I20: Especifique
B22: 4.2 ¿La información estadística propuesta se utiliza para atender acuerdos, tratados o compromisos establecidos a nivel internacional?
B23: (Marque la opción correspondiente. Si selecciona la opción "Sí", especifique el nombre de los compromisos y organismos o países; si selecciona la opción "No", deje en blanco 4.3)
C26: =+E120 -> Especifique
B27: Nombre del acuerdo, tratado o compromiso internacional | K27: Nombre del organismo o país con el que se estableció
B28: 1
B29: 2
B30: 3
B31: 4
B32: 5
B34: 4.3 ¿El compromiso internacional ha sido suscrito por el Presidente de la República y aprobado por el Senado?
O37: Anexar copia del documento aprobatorio o comprobatorio y/o observaciones
A42: 3.4a2 | C42: =ISTEXT(#REF!) -> FALSE | E42: =IF(C42=TRUE,MID(#REF!,1,500), "No declarado") -> No declarado | J42: / | K42: =CONCATENATE(E40,J42,E42,J42,E43,J42,E44,J42,E45,J42,E46,J42,E47,J42,E48,J42,E49,J42,E50,J42,E51,J42,E52,J42,E53) -> / No declarado / No declarado / No declarado / No declarado / No declarado / No declarado / No declarado / No declarado / No declarado / No declarado / No declarado / No declarado
A43: 3.4a3 | C43: =ISTEXT(#REF!) -> FALSE | E43: =IF(C43=TRUE,MID(#REF!,1,500), "No declarado") -> No declarado
A44: 3.4a4 | C44: =ISTEXT(#REF!) -> FALSE | E44: =IF(C44=TRUE,MID(#REF!,1,500), "No declarado") -> No declarado
A45: 3.4a5 | C45: =ISTEXT(#REF!) -> FALSE | E45: =IF(C45=TRUE,MID(#REF!,1,500), "No declarado") -> No declarado
A46: 3.4a6 | C46: =ISTEXT(#REF!) -> FALSE | E46: =IF(C46=TRUE,MID(#REF!,1,500), "No declarado") -> No declarado
A47: 3.4a7 | C47: =ISTEXT(#REF!) -> FALSE | E47: =IF(C47=TRUE,MID(#REF!,1,500), "No declarado") -> No declarado
A48: 3.4a8 | C48: =ISTEXT(#REF!) -> FALSE | E48: =IF(C48=TRUE,MID(#REF!,1,500), "No declarado") -> No declarado
A49: 3.4a9 | C49: =ISTEXT(#REF!) -> FALSE | E49: =IF(C49=TRUE,MID(#REF!,1,500), "No declarado") -> No declarado
A50: 3.4a10 | C50: =ISTEXT(#REF!) -> FALSE | E50: =IF(C50=TRUE,MID(#REF!,1,500), "No declarado") -> No declarado
A51: 3.4a11 | C51: =ISTEXT(#REF!) -> FALSE | E51: =IF(C51=TRUE,MID(#REF!,1,500), "No declarado") -> No declarado
A52: 3.4a12 | C52: =ISTEXT(#REF!) -> FALSE | E52: =IF(C52=TRUE,MID(#REF!,1,500), "No declarado") -> No declarado
A53: 3.4a13 | C53: =ISTEXT(#REF!) -> FALSE | E53: =IF(C53=TRUE,MID(#REF!,1,500), "No declarado") -> No declarado
A55: 3.4b1 | C55: =ISTEXT(#REF!) -> FALSE | E55: =IF(C55=TRUE,MID(#REF!,1,500), "No declarado") -> No declarado | K55: =CONCATENATE(E55,J42,E56,J42,E57,J42,E58,J42,E59,J42,E60,J42,E61,J42,E62,J42,E63,J42,E64,J42,E65,J42,E66,J42,E67) -> No declarado / No declarado / No declarado / No declarado / No declarado / No declarado / No declarado / No declarado / No declarado / No declarado / No declarado / No declarado / No declarado
A56: 3.4b2 | C56: =ISTEXT(#REF!) -> FALSE | E56: =IF(C56=TRUE,MID(#REF!,1,500), "No declarado") -> No declarado
A57: 3.4b3 | C57: =ISTEXT(#REF!) -> FALSE | E57: =IF(C57=TRUE,MID(#REF!,1,500), "No declarado") -> No declarado
A58: 3.4b4 | C58: =ISTEXT(#REF!) -> FALSE | E58: =IF(C58=TRUE,MID(#REF!,1,500), "No declarado") -> No declarado
A59: 3.4b5 | C59: =ISTEXT(#REF!) -> FALSE | E59: =IF(C59=TRUE,MID(#REF!,1,500), "No declarado") -> No declarado
A60: 3.4b6 | C60: =ISTEXT(#REF!) -> FALSE | E60: =IF(C60=TRUE,MID(#REF!,1,500), "No declarado") -> No declarado
A61: 3.4b7 | C61: =ISTEXT(#REF!) -> FALSE | E61: =IF(C61=TRUE,MID(#REF!,1,500), "No declarado") -> No declarado | J61: /
A62: 3.4b8 | C62: =ISTEXT(#REF!) -> FALSE | E62: =IF(C62=TRUE,MID(#REF!,1,500), "No declarado") -> No declarado
A63: 3.4b9 | C63: =ISTEXT(#REF!) -> FALSE | E63: =IF(C63=TRUE,MID(#REF!,1,500), "No declarado") -> No declarado
A64: 3.4b10 | C64: =ISTEXT(#REF!) -> FALSE | E64: =IF(C64=TRUE,MID(#REF!,1,500), "No declarado") -> No declarado
A65: 3.4b11 | C65: =ISTEXT(#REF!) -> FALSE | E65: =IF(C65=TRUE,MID(#REF!,1,500), "No declarado") -> No declarado
A66: 3.4b12 | C66: =ISTEXT(#REF!) -> FALSE | E66: =IF(C66=TRUE,MID(#REF!,1,500), "No declarado") -> No declarado
A67: 3.4b13 | C67: =ISTEXT(#REF!) -> FALSE | E67: =IF(C67=TRUE,MID(#REF!,1,500), "No declarado") -> No declarado
A69: 3.4c1 | C69: =ISTEXT(#REF!) -> FALSE | E69: =IF(C69=TRUE,MID(#REF!,1,500), "No declarado") -> No declarado | K69: =CONCATENATE(E69,J61,E70,J61,E71,J61,E72,J61,E73,J61,E74,J61,E75,J61,E76,J61,E77,J61,E78,J61,E79,J61,E80,J61,E81) -> No declarado / No declarado / No declarado / No declarado / No declarado / No declarado / No declarado / No declarado / No declarado / No declarado / No declarado / No declarado / No declarado
A70: 3.4c2 | C70: =ISTEXT(#REF!) -> FALSE | E70: =IF(C70=TRUE,MID(#REF!,1,500), "No declarado") -> No declarado
A71: 3.4c3 | C71: =ISTEXT(#REF!) -> FALSE | E71: =IF(C71=TRUE,MID(#REF!,1,500), "No declarado") -> No declarado
A72: 3.4c4 | C72: =ISTEXT(#REF!) -> FALSE | E72: =IF(C72=TRUE,MID(#REF!,1,500), "No declarado") -> No declarado
A73: 3.4c5 | C73: =ISTEXT(#REF!) -> FALSE | E73: =IF(C73=TRUE,MID(#REF!,1,500), "No declarado") -> No declarado
A74: 3.4c6 | C74: =ISTEXT(#REF!) -> FALSE | E74: =IF(C74=TRUE,MID(#REF!,1,500), "No declarado") -> No declarado
A75: 3.4c7 | C75: =ISTEXT(#REF!) -> FALSE | E75: =IF(C75=TRUE,MID(#REF!,1,500), "No declarado") -> No declarado
A76: 3.4c8 | C76: =ISTEXT(#REF!) -> FALSE | E76: =IF(C76=TRUE,MID(#REF!,1,500), "No declarado") -> No declarado
A77: 3.4c9 | C77: =ISTEXT(#REF!) -> FALSE | E77: =IF(C77=TRUE,MID(#REF!,1,500), "No declarado") -> No declarado
A78: 3.4c10 | C78: =ISTEXT(#REF!) -> FALSE | E78: =IF(C78=TRUE,MID(#REF!,1,500), "No declarado") -> No declarado
A79: 3.4c11 | C79: =ISTEXT(#REF!) -> FALSE | E79: =IF(C79=TRUE,MID(#REF!,1,500), "No declarado") -> No declarado
A80: 3.4c12 | C80: =ISTEXT(#REF!) -> FALSE | E80: =IF(C80=TRUE,MID(#REF!,1,500), "No declarado") -> No declarado | J80: /
A81: 3.4c13 | C81: =ISTEXT(#REF!) -> FALSE | E81: =IF(C81=TRUE,MID(#REF!,1,500), "No declarado") -> No declarado
A82: En esta versión ya no existen los siguientes:
A83: 3.4d1 | C83: =ISTEXT(#REF!) -> FALSE | E83: =IF(C83=TRUE,MID(#REF!,1,500), "No declarado") -> No declarado | K83: =CONCATENATE(E83,J80,E84,J80,E85,J80,E86,J80,E87,J80,E88,J80,E89,J80,E90,J80,E91,J80,E92,J80,E93,J80,E94,J80,E95) -> No declarado / No declarado / No declarado / No declarado / No declarado / No declarado / No declarado / No declarado / No declarado / No declarado / No declarado / No declarado / No declarado
A84: 3.4d2 | C84: =ISTEXT(#REF!) -> FALSE | E84: =IF(C84=TRUE,MID(#REF!,1,500), "No declarado") -> No declarado
A85: 3.4d3 | C85: =ISTEXT(#REF!) -> FALSE | E85: =IF(C85=TRUE,MID(#REF!,1,500), "No declarado") -> No declarado
A86: 3.4d4 | C86: =ISTEXT(#REF!) -> FALSE | E86: =IF(C86=TRUE,MID(#REF!,1,500), "No declarado") -> No declarado
A87: 3.4d5 | C87: =ISTEXT(#REF!) -> FALSE | E87: =IF(C87=TRUE,MID(#REF!,1,500), "No declarado") -> No declarado
A88: 3.4d6 | C88: =ISTEXT(#REF!) -> FALSE | E88: =IF(C88=TRUE,MID(#REF!,1,500), "No declarado") -> No declarado
A89: 3.4d7 | C89: FALSE | E89: =IF(C89=TRUE,MID(#REF!,1,500), "No declarado") -> No declarado
A90: 3.4d8 | C90: FALSE | E90: =IF(C90=TRUE,MID(#REF!,1,500), "No declarado") -> No declarado
A91: 3.4d9 | C91: FALSE | E91: =IF(C91=TRUE,MID(#REF!,1,500), "No declarado") -> No declarado
A92: 3.4d10 | C92: FALSE | E92: =IF(C92=TRUE,MID(#REF!,1,500), "No declarado") -> No declarado
A93: 3.4d11 | C93: FALSE | E93: =IF(C93=TRUE,MID(#REF!,1,500), "No declarado") -> No declarado
A94: 3.4d12 | C94: =ISTEXT(#REF!) -> FALSE | E94: =IF(C94=TRUE,MID(#REF!,1,500), "No declarado") -> No declarado
A95: 3.4d13 | C95: =ISTEXT(#REF!) -> FALSE | E95: =IF(C95=TRUE,MID(#REF!,1,500), "No declarado") -> No declarado
A97: 3.5a | C97: =ISTEXT(#REF!) -> FALSE | E97: =IF(C97=TRUE,MID(#REF!,1,500), "No declarado") -> No declarado
H99: espacio | I99: 1 | J99: =CONCATENATE(I99,H100,E100) -> 1 No declarado
A100: 3.6a1 | C100: =ISTEXT(E28) -> FALSE | E100: =IF(C100=TRUE,MID(E28,1,500), "No declarado") -> No declarado | I100: 2 | J100: =CONCATENATE(I100,H101,E101) -> 2 No declarado
A101: 3.6a2 | C101: =ISTEXT(E29) -> FALSE | E101: =IF(C101=TRUE,MID(E29,1,500), "No declarado") -> No declarado | I101: 3 | J101: =CONCATENATE(I101,H100,E102) -> 3 No declarado
A102: 3.6a3 | C102: =ISTEXT(E30) -> FALSE | E102: =IF(C102=TRUE,MID(E30,1,500), "No declarado") -> No declarado | I102: 4 | J102: =CONCATENATE(I102,H100,E103) -> 4 No declarado
A103: 3.6a4 | C103: =ISTEXT(E31) -> FALSE | E103: =IF(C103=TRUE,MID(E31,1,500), "No declarado") -> No declarado | I103: 5 | J103: =CONCATENATE(I103,H100,E104) -> 5 No declarado
A104: 3.6a5 | C104: =ISTEXT(E32) -> FALSE | E104: =IF(C104=TRUE,MID(E32,1,500), "No declarado") -> No declarado
A106: 3.6b1 | C106: =ISTEXT(K28) -> FALSE | E106: =IF(C106=TRUE,MID(K28,1,500), "No declarado") -> No declarado
A107: 3.6b2 | C107: =ISTEXT(K29) -> FALSE | E107: =IF(C107=TRUE,MID(K29,1,500), "No declarado") -> No declarado
A108: 3.6b3 | C108: =ISTEXT(K30) -> FALSE | E108: =IF(C108=TRUE,MID(K30,1,500), "No declarado") -> No declarado
A109: 3.6b4 | C109: =ISTEXT(K31) -> FALSE | E109: =IF(C109=TRUE,MID(K31,1,500), "No declarado") -> No declarado | J109: =CONCATENATE(E106,H100,E107,H100,E108,H100,E109,H100,E110) -> No declarado No declarado No declarado No declarado No declarado
A110: 3.6b5 | C110: =ISTEXT(K32) -> FALSE | E110: =IF(C110=TRUE,MID(K32,1,500), "No declarado") -> No declarado
E112: =CONCATENATE(E28,E111,E29,E111,E30,E111,E31,E111,E32) | K112: =CONCATENATE(K28,K111,K29,K111,K30,K111,K31,K111,K32)
E113: =MID(E28,2,2) | F113: =_Sid55 -> #NAME?
A117: 3.5
C118: 0 | E118: =IF(C118=2, "Pasa a 4.2", "Especifique") -> Especifique | G118: =IF(C118=1,"Sí","No") -> No | H118: =IF(C118=0,"No declarado",MID(G118,1,2)) -> No declarado
A120: 3.6 | C120: 0 | E120: =IF(C120=2, "Pase a la siguiente página ", "Especifique") -> Especifique | G120: =IF(C120=1,"Sí","No") -> No | H120: =IF(C120=0,"No declarado",MID(G120,1,2)) -> No declarado
C121: FALSE | E121: =IF(C121=TRUE,"Pasa a la siguiente página"," ")

Sheet 1.Metadato
E3: FORMATO ADAPTADO DEL CATÁLOGO NACIONAL DE INDICADORES PARA LA INTEGRACIÓN Y DIFUSIÓN DE METADATOS
B8: 1. METADATO DE LA FAMILIA DE INDICADORES
B9: 1.1 Características generales de la familia de indicadores
B10: En caso de contar con desagregaciones conceptuales, se debe generar una hoja de metadato para cada una de ellas.
B11: 1.1.1 Nombre: El nombre del indicador debe coincidir con el publicado en la página web de la Unidad del Estado, cuando así corresponda.
C13: Personas extranjeras con residencia regular en México
B15: 1.1.2 Definición: Señale la descripción del indicador de acuerdo con las variables o conceptos que lo conforman.
C17: Número de persona extranjera que obtuvieron un permiso de residencia temporal o permanente para permanecer en México por un periodo de por lo menos un año.
B19: 1.1.3 Forma de cálculo: Señale el algoritmo y las variables utilizadas en el cálculo del indicador.
C21: ER = ERT + ERP+ ERH ER= Número de personas extranjeras con residencia regular en México ERT = Número de personas extranjeras que obtuvieron un permiso de residencia temporal en México para permanecer en México por un periodo de por lo menos un año. ERP = Número de personas extranjeras que obtuvieron un permiso de residencia permanente en México. ERH = Número de personas extranjeras que obtuvieron un permiso de residencuia temporal en México por causa humanitaria para permanecer en México por un periodo de por lo menos un año.
B23: 1.1.4 Unidad de medida: Indique la unidad de medida a la que están referenciados los valores del indicador. Ejemplo: Personas adultas mayores por cada 100 niños.
C25: Número de personas
B27: 1.1.5 Cobertura geográfica: Especifique el desglose geográfico del indicador. Ejemplo: Nacional y Estatal.
C29: Nacional y estatal
B31: 1.1.6 Periodicidad: Indique la frecuencia con la que se calcula el indicador.
F33: Quinquenal
F34: Anual
F35: Semestral
F36: Trimestral
D37: TRUE
D38: TRUE | F38: Bimestral
D39: FALSE
D40: FALSE | F40: Mensual
D41: FALSE
D42: FALSE | F42: Otro | G42: Especifique: | H42: Mensual y anual
B44: 1.1.7 Oportunidad: Indique cuál es el tiempo entre la fecha final del periodo de referencia y la fecha en que se hace público el indicador. Ejemplo: 54 días después de concluido el trimestre.
C46: Datos oportunos: un mes después de haber concluido el mes calendario Datos definitivos: seis meses después después de haber concluido el año de referencia
B48: 1.1.8 Cobertura temporal: Indique a partir de qué fecha el indicador propuesto cumple con los criterios para su determinación como Clave. La serie histórica debe ser comparable en el tiempo. Ejemplo: A partir de 2000 a la fecha, serie continua.
C50: A partir de 2013 a la fecha, serie continua
B52: 1.1.9 Periodo base: Indique el momento temporal que se toma como base para un dato o número Índice. En caso contrario, especifique "No aplica". Ejemplo: Año base 2008.
C54: No aplica
B56: 1.1.10 Periodo de referencia: Señale el periodo de tiempo o momento específico al que está referida la información. Ejemplo: Inicio del ciclo escolar.
C58: Fin del año calendario
B60: 1.1.11 Observaciones o precisiones técnicas: En caso necesario, proporcione información de relevancia para el entendimiento del indicador.
C62: La información hace referencia al número de personas extranjeras a las que se les utoriza la residencia en México y que obtuvieron su documento migratorio. Aunque la información se publica mensualmente, la versión validada de dicha información se publica en junio del año posterior al cierre
B64: 1.2 Proyectos estadísticos/geográficos a partir de los cuales se obtiene la información para el cálculo de los indicadores
B65: Indicar los proyectos estadísticos/geográficos de los cuales se obtiene la información para el cálculo del indicador: Incorpore todas las variables que se reportan en la forma de cálculo y los proyectos estadísticos/geográficos correspondientes.
B66: Proyecto estadístico/geográfico A:
B67: 1.2.1 Nombre:
C69: Aprovechamiento de registros admistrativos con fines estadísticos
B71: 1.2.1.1 Unidad del Estado responsable: | F71: Dependencia | H71: Unidad Administrativa
F72: Secretaría de Gobernación | H72: Unidad de Política Migratoria, Registro e Identidad de Personas
B74: 1.2.1.2 Lugar dónde puede consultarse: | F74: http://www.politicamigratoria.gob.mx/es//PoliticaMigratoria/Direccion_de_Estadistica http://www.politicamigratoria.gob.mx/es/PoliticaMigratoria/Boletines_Estadisticos http://www.politicamigratoria.gob.mx/es/PoliticaMigratoria/Series_historicas
B76: 1.2.1.3 Estatus de la información generada por el proyecto estadístico/geográfico: | H76: IIN | J76: Oficial
B77: 1.2.1.4 Estatus del proyecto estadístico/geográfico en los Registros Nacionales de Información Estadística y Geográfica (RNIEG): | H77: Registrado | I77: En proceso | K77: Sin registro
B78: a. En caso de que el proyecto estadístico/geográfico esté registrado en los RNIEG, ¿se encuentra actualizado?: | H78: Sí | I78: No
B80: b. Si el proyecto estadístico/geográfico no está registrado o actualizado en los RNIEG, indique la fecha en que será concluido su registro o actualización: | I80: No aplica
B82: Variable 1 utilizada en el cálculo del indicador:
B83: 1.2.2 Denominación: | F83: Número de personas extranjeras que obtuvieron un permiso de residencia temporal en México para permanecer en México por un periodo de por lo menos un año
B85: 1.2.2.1 Unidad de medida: | F85: Número de personas
B87: 1.2.2.2 Observaciones y /o especificaciones técnicas: | F87: La información hace referencia al número de personas extranjeras a las que se les utoriza la residencia en México y que obtuvieron su documento migratorio. Aunque la información se publica mensualmente, la versión validada de dicha información se publica en junio del año posterior al cierre
B88: Variable 2 utilizada en el cálculo del indicador:
B89: 1.2.2 Denominación: | F89: Número de personas extranjeras que obtuvieron un permiso de residencia permanente en México
B91: 1.2.2.1 Unidad de medida: | F91: Número de personas
B93: 1.2.2.2 Observaciones y /o especificaciones técnicas: | F93: La información hace referencia al número de personas extranjeras a las que se les utoriza la residencia en México y que obtuvieron su documento migratorio. Aunque la información se publica mensualmente, la versión validada de dicha información se publica en junio del año posterior al cierre
B94: Variable 3 utilizada en el cálculo del indicador:
B95: 1.2.2 Denominación: | F95: Número de personas extranjeras que obtuvieron un permiso de residencia temporal en México por causa humanitaria para permanecer en México por un periodo de por lo menos un año.
B97: 1.2.2.1 Unidad de medida: | F97: Número de personas
B99: 1.2.2.2 Observaciones y /o especificaciones técnicas: | F99: La información hace referencia al número de personas extranjeras a las que se les utoriza la residencia en México y que obtuvieron su documento migratorio. Aunque la información se publica mensualmente, la versión validada de dicha información se publica en junio del año posterior al cierre
B100: Variable 4 utilizada en el cálculo del indicador:
B101: 1.2.2 Denominación:
B103: 1.2.2.1 Unidad de medida:
B105: 1.2.2.2 Observaciones y /o especificaciones técnicas:
B106: Variable 5 utilizada en el cálculo del indicador:
B107: 1.2.2 Denominación:
B109: 1.2.2.1 Unidad de medida:
B111: 1.2.2.2 Observaciones y /o especificaciones técnicas:
B113: Proyecto estadístico/geográfico B:
B114: 2.2.1 Nombre:
B118: 2.2.1.1 Unidad del Estado responsable: | F118: Dependencia | H118: Unidad Administrativa
B121: 2.2.1.2 Lugar dónde puede consultarse:
B123: 2.2.1.3 Estatus de la información generada por el proyecto estadístico/geográfico: | H123: IIN | J123: Oficial
B124: 2.2.1.4 Estatus del proyecto estadístico/geográfico en los Registros Nacionales de Información Estadística y Geográfica (RNIEG): | H124: Registrado | I124: En proceso | K124: Sin registro
B125: a. En caso de que el proyecto estadístico/geográfico esté registrado en los RNIEG, ¿se encuentra actualizado?: | H125: Sí | I125: No
B127: b. Si el proyecto estadístico/geográfico no está registrado o actualizado en los RNIEG, indique la fecha en que será concluido su registro o actualización:
B129: Variable 1 utilizada en el cálculo del indicador:
B130: 2.2.2 Denominación:
B132: 2.2.2.1 Unidad de medida:
B134: 2.2.2.2 Observaciones y /o especificaciones técnicas:
B135: Variable 2 utilizada en el cálculo del indicador:
B136: 2.2.2 Denominación:
B138: 2.2.2.1 Unidad de medida:
B140: 2.2.2.2 Observaciones y /o especificaciones técnicas:
B142: 1.3 Metodologías utilizadas en la construcción de la familia de indicadores
B143: 1.3.1 Especifique las metodologías utilizadas en el cálculo del indicador:
C145: Documento metodológico, año | G145: UE/ Organismo internacional responsable
C146: Metodologia para la integración del boletín mensual de estadistica migratoria | G146: Unidad de Política Migratoria, Registro e Identidad de Personas
B150: 1.3.2 Si el indicador utiliza estándares internacionales en atención de los compromisos firmados por el Estado Mexicano, especifique:
C152: Estándar internacional, año | G152: Organismo internacional responsable
B156: 1.3.3 Si el indicador utiliza estándares nacionales/internacionales en su cálculo, indique:
C158: Estándar nacional/internacional, año | G158: UE/ Organismo internacional responsable
C159: Recomendaciones sobre Estadísticas de las Migraciones Internacionales. Revisión 1, 1999 | G159: Departamento de Asuntos Económicos y Sociales, División de Estadística, Naciones Unidas
C160: Revised overarching conceptual framework and concepts and definitions on international migration produced by the Expert Group on Migration Statistics | G160: Naciones Unidas, División de Estadística
C161: Norma Estadística Básica | G161: Instituto Nacional de Geografía y Estadística
C162: Catálogo único de localidadades | G162: Instituto Nacional de Geografía y Estadística
B164: 1.4 Medios de difusión
B165: 1.4.1 Si el indicador propuesto es difundido por la Unidad del Estado responsable, indique: Página WEB y/o publicación impresa, etc.
B167: Medio de difusión | F167: Organismo responsable | I167: Lugar dónde puede consultarse
B168: Página web de la UPMRIP | F168: Unidad de Política Migratoria, Registro e Identidad de Personas | I168: http://www.politicamigratoria.gob.mx/es//PoliticaMigratoria/Direccion_de_Estadistica
B172: 2.2.3 Nombre de la variable 2 utilizada en el cálculo del indicador:
...

Sheet 2.Series estadísticas
E3: FORMATO ADAPTADO DEL CATÁLOGO NACIONAL DE INDICADORES PARA LA INTEGRACIÓN Y DIFUSIÓN DE METADATOS
B8: 2. SERIES ESTADÍSTICAS DE LA FAMILIA DE INDICADORES Y DE LOS INSUMOS PARA SU CÁLCULO
B9: 2.1 Series estadísticas de la familia de indicadores
B10: 2.1.1 Liste las series estadísticas incluidas en la propuesta de acuerdo con la desagregación: conceptual, por sexo y geográfica del indicador y considerando el periodo señalado en la cobertura temporal.
C12: Ejemplo: | D12: Total de entradas por año, y por desglose de extranjeros vs. mexicanos
C13: Características de la familia de indicadores
C14: 1. Desagregación conceptual: | F14: Personas con estancia regular a México | H14: 2. Desagregación por sexo: | J14: Si
C15: 3. Desagregación geográfica: | F15: Nacional | H15: 4. Cobertura temporal: | J15: A partir de 2013
C17: Series estadísticas de la familia de indicadores según sus características:
C18: 1 Total de personas extranjeras con residencia temporal en México; total; nacional y estatal,anual y mensual, 2013 a la fecha
C19: 2 Total de personas extranjeras con residencia permanente en México; total; nacional y estatal,anual y mensual, 2013 a la fecha
C20: 3 Total de personas extranjeras con residencia temporal por causa humanitaria en México; total; nacional y estatal,anual y mensual, 2013 a la fecha
C21: 4 Total de personas extranjeras con residencia temporal en México; categoria de inmigración; nacional, anual y periodo acumuldo, 2013 a la fecha
C22: 5 Total de personas extranjeras con residencia permanente en México; categoria de inmigración; nacional, anual y periodo acumuldo, 2013 a la fecha
C23: 6 Total de personas extranjeras con residencia temporal por causa humanitaria en Méxic; categoria de inmigración; nacional, anual y periodo acumuldo, 2013 a la fecha
C24: 7 Total de personas extranjeras con residencia temporal en México; país de nacionalidad; nacional y estatal, anual y mensual, 2013 a la fecha
C25: 8 Total de personas extranjeras con residencia permanente en México; país de nacionalidad; nacional y estatal, anual y mensual, 2013 a la fecha
C26: 9 Total de personas extranjeras con residencia temporal por causa humanitaria en México; país de nacionalidad; nacional y estatal, anual y mensual, 2013 a la fecha
C27: 10 Total de personas extranjeras con residencia temporal en México; sexo; nacional y estatal, anual y mensual, 2013 a la fecha
C28: 11 Total de personas extranjeras con residencia permanente en México; sexo; nacional y estatal, anual y mensual, 2013 a la fecha
C29: 12 Total de personas extranjeras con residencia temporal por causa humanitaria en México; sexo; nacional y estatal, anual y mensual, 2013 a la fecha
B31: 2.2 Series estadísticas utilizadas en el cálculo de la familia de indicadores
B32: 2.2.1 Liste las series estadísticas utilizadas en el cálculo del indicador conforme a las características indicadas anteriormente.
C34: Ejemplo: | D34: Tasa de absorción en educación según nivel de escolaridad
C36: Series estadísticas para el cálculode la familia de indicadores
C37: Personas con residencia regular en México por entidad federetiva, categoria de inmigración, país de nacionalidad
B50: Para la integración del archivo con las series estadísticas, consulte la hoja: Envío series est.incluida al final de este formato y en la cual se especifica la forma en que deberán de remitirse las series correspondientes.

Sheet BASE DE DATOS
A1: NUMERO | C1: DESCRIPCION
A2: 1.1 | C2: =+#REF! -> #REF! | E2: =IF(C2="No declarado", "") -> #REF!
A3: 1.2 | C3: =+#REF! -> #REF! | D3: =IF(C3<>"No declarado", MID(C3,1,100),"") -> #REF! | E3: =IF(C3="No declarado", "") -> #REF!
A4: 1.3 | C4: =+#REF! -> #REF! | D4: =IF(C4<>"No declarado", MID(C4,1,100),"") -> #REF! | E4: =IF(C4="No declarado", "") -> #REF!
A5: 1.4 | C5: =+#REF! -> #REF! | D5: =IF(C5<>"No declarado", MID(C5,1,100),"") -> #REF! | E5: =IF(C5="No declarado", "") -> #REF!
A6: 1.5 | C6: =+#REF! -> #REF! | D6: =IF(C6<>"No declarado", MID(C6,1,100),"") -> #REF! | E6: =IF(C6="No declarado", "") -> #REF!
A7: 1.6 | C7: =+#REF! -> #REF! | D7: =IF(C7<>"No declarado", MID(C7,1,100),"") -> #REF! | E7: =IF(C7="No declarado", "") -> #REF!
A8: 1.7 | C8: =+#REF! -> #REF! | D8: =IF(C8<>"No declarado", MID(C8,1,100),"") -> #REF! | E8: =IF(C8="No declarado", "") -> #REF!
A9: 2.1 | C9: =+#REF! -> #REF! | D9: =IF(C9<>"No declarado", MID(C9,1,100),"") -> #REF! | E9: =IF(C9="No declarado", "") -> #REF!
A10: 2.2a | C10: =+#REF! -> #REF! | D10: =IF(C10<>"No declarado", MID(C10,1,100),"") -> #REF! | E10: =IF(C10="No declarado", "") -> #REF!
A11: 2.2b | C11: =+#REF! -> #REF! | D11: =IF(C11<>"No declarado", MID(C11,1,100),"") -> #REF! | E11: =IF(C11="No declarado", "") -> #REF!
A12: 2.2c | C12: =+#REF! -> #REF! | D12: =IF(C12<>"No declarado", MID(C12,1,100),"") -> #REF! | E12: =IF(C12="No declarado", "") -> #REF!
A13: 2.2d | C13: =+#REF! -> #REF! | D13: =IF(C13<>"No declarado", MID(C13,1,100),"") -> #REF! | E13: =IF(C13="No declarado", "") -> #REF!
A14: 2.2e | C14: =+#REF! -> #REF! | D14: =IF(C14<>"No declarado", MID(C14,1,100),"") -> #REF! | E14: =IF(C14="No declarado", "") -> #REF!
A15: 2.2f | C15: =+#REF! -> #REF! | D15: =IF(C15<>"No declarado", MID(C15,1,100),"") -> #REF! | E15: =IF(C15="No declarado", "") -> #REF!
A16: 3.1a | C16: =+#REF! -> #REF! | D16: =IF(C16<>"No declarado", MID(C16,1,100),"") -> #REF! | E16: =IF(C16="No declarado", "") -> #REF!
A17: 3.1b | C17: =+#REF! -> #REF! | D17: =IF(C17<>"No declarado", MID(C17,1,100),"") -> #REF! | E17: =IF(C17="No declarado", "") -> #REF!
A18: 3.21 | C18: =+#REF! -> #REF! | D18: =IF(C18<>"No declarado", MID(C18,1,100),"") -> #REF! | E18: =IF(C18="No declarado", "") -> #REF!
A19: 3.2.1a | C19: =+#REF! -> #REF! | D19: =IF(C19<>"No declarado", MID(C19,1,100),"") -> #REF! | E19: =IF(C19="No declarado", "") -> #REF!
A20: 3.2.1b | C20: =+#REF! -> #REF! | D20: =IF(C20<>"No declarado", MID(C20,1,100),"") -> #REF! | E20: =IF(C20="No declarado", "") -> #REF!
A21: 3.2.1c | C21: =+#REF! -> #REF! | D21: =IF(C21<>"No declarado", MID(C21,1,100),"") -> #REF! | E21: =IF(C21="No declarado", "") -> #REF!
A22: 3.2.1d | C22: =+#REF! -> #REF! | D22: =IF(C22<>"No declarado", MID(C22,1,100),"") -> #REF! | E22: =IF(C22="No declarado", "") -> #REF!
A23: 3.22 | C23: =+#REF! -> #REF! | D23: =IF(C23<>"No declarado", MID(C23,1,100),"") -> #REF! | E23: =IF(C23="No declarado", "") -> #REF!
A24: 3.2.2a | C24: =+#REF! -> #REF! | D24: =IF(C24<>"No declarado", MID(C24,1,100),"") -> #REF! | E24: =IF(C24="No declarado", "") -> #REF!
A25: 3.2.2b | C25: =+#REF! -> #REF! | D25: =IF(C25<>"No declarado", MID(C25,1,100),"") -> #REF! | E25: =IF(C25="No declarado", "") -> #REF!
A26: 3.2.2c | C26: =+#REF! -> #REF! | D26: =IF(C26<>"No declarado", MID(C26,1,100),"") -> #REF! | E26: =IF(C26="No declarado", "") -> #REF!
A27: 3.2.2d | C27: =+#REF! -> #REF! | D27: =IF(C27<>"No declarado", MID(C27,1,100),"") -> #REF! | E27: =IF(C27="No declarado", "") -> #REF!
A28: 3.23 | C28: =+#REF! -> #REF! | D28: =IF(C28<>"No declarado", MID(C28,1,100),"") -> #REF! | E28: =IF(C28="No declarado", "") -> #REF!
A29: 3.2.3a | C29: =+#REF! -> #REF! | D29: =IF(C29<>"No declarado", MID(C29,1,100),"") -> #REF! | E29: =IF(C29="No declarado", "") -> #REF!
A30: 3.2.3b | C30: =+#REF! -> #REF! | D30: =IF(C30<>"No declarado", MID(C30,1,100),"") -> #REF! | E30: =IF(C30="No declarado", "") -> #REF!
A31: 3.2.3c | C31: =+#REF! -> #REF! | D31: =IF(C31<>"No declarado", MID(C31,1,100),"") -> #REF! | E31: =IF(C31="No declarado", "") -> #REF!
A32: 3.2.3d | C32: =+#REF! -> #REF! | D32: =IF(C32<>"No declarado", MID(C32,1,100),"") -> #REF! | E32: =IF(C32="No declarado", "") -> #REF!
A33: 3.3 | C33: =+#REF! -> #REF! | D33: =IF(C33<>"No declarado", MID(C33,1,100),"") -> #REF! | E33: =IF(C33="No declarado", "") -> #REF!
A34: 3.4a1 | C34: =+'Emer. y compromisos'!E40 -> 0 | D34: =IF(C34<>"No declarado", MID(C34,1,100),"") -> 0 | E34: =IF(C34="No declarado", "") -> FALSE
A35: 3.4a2 | C35: =+'Emer. y compromisos'!E42 -> No declarado | D35: =IF(C35<>"No declarado", MID(C35,1,100),"") | E35: =IF(C35="No declarado", "")
A36: 3.4a3 | C36: =+'Emer. y compromisos'!E43 -> No declarado | D36: =IF(C36<>"No declarado", MID(C36,1,100),"") | E36: =IF(C36="No declarado", "")
A37: 3.4a4 | C37: =+'Emer. y compromisos'!E44 -> No declarado | D37: =IF(C37<>"No declarado", MID(C37,1,100),"") | E37: =IF(C37="No declarado", "")
A38: 3.4a5 | C38: =+'Emer. y compromisos'!E45 -> No declarado | D38: =IF(C38<>"No declarado", MID(C38,1,100),"") | E38: =IF(C38="No declarado", "")
A39: 3.4a6 | C39: =+'Emer. y compromisos'!E46 -> No declarado | D39: =IF(C39<>"No declarado", MID(C39,1,100),"") | E39: =IF(C39="No declarado", "")
A40: 3.4a7 | C40: =+'Emer. y compromisos'!E47 -> No declarado | D40: =IF(C40<>"No declarado", MID(C40,1,100),"") | E40: =IF(C40="No declarado", "")
A41: 3.4a8 | C41: =+'Emer. y compromisos'!E48 -> No declarado | D41: =IF(C41<>"No declarado", MID(C41,1,100),"") | E41: =IF(C41="No declarado", "")
A42: 3.4a9 | C42: =+'Emer. y compromisos'!E49 -> No declarado | D42: =IF(C42<>"No declarado", MID(C42,1,100),"") | E42: =IF(C42="No declarado", "")
A43: 3.4a10 | C43: =+'Emer. y compromisos'!E50 -> No declarado | D43: =IF(C43<>"No declarado", MID(C43,1,100),"") | E43: =IF(C43="No declarado", "")
A44: 3.4a11 | C44: =+'Emer. y compromisos'!E51 -> No declarado | D44: =IF(C44<>"No declarado", MID(C44,1,100),"") | E44: =IF(C44="No declarado", "")
A45: 3.4a12 | C45: =+'Emer. y compromisos'!E52 -> No declarado | D45: =IF(C45<>"No declarado", MID(C45,1,100),"") | E45: =IF(C45="No declarado", "")
A46: 3.4a13 | C46: =+'Emer. y compromisos'!E53 -> No declarado | D46: =IF(C46<>"No declarado", MID(C46,1,100),"") | E46: =IF(C46="No declarado", "")
A47: 3.4b1 | C47: =+'Emer. y compromisos'!E55 -> No declarado | D47: =IF(C47<>"No declarado", MID(C47,1,100),"") | E47: =IF(C47="No declarado", "")
A48: 3.4b2 | C48: =+'Emer. y compromisos'!E56 -> No declarado | D48: =IF(C48<>"No declarado", MID(C48,1,100),"") | E48: =IF(C48="No declarado", "")
A49: 3.4b3 | C49: =+'Emer. y compromisos'!E57 -> No declarado | D49: =IF(C49<>"No declarado", MID(C49,1,100),"") | E49: =IF(C49="No declarado", "")
A50: 3.4b4 | C50: =+'Emer. y compromisos'!E58 -> No declarado | D50: =IF(C50<>"No declarado", MID(C50,1,100),"") | E50: =IF(C50="No declarado", "")
A51: 3.4b5 | C51: =+'Emer. y compromisos'!E59 -> No declarado | D51: =IF(C51<>"No declarado", MID(C51,1,100),"") | E51: =IF(C51="No declarado", "")
A52: 3.4b6 | C52: =+'Emer. y compromisos'!E60 -> No declarado | D52: =IF(C52<>"No declarado", MID(C52,1,100),"") | E52: =IF(C52="No declarado", "")
A53: 3.4b7 | C53: =+'Emer. y compromisos'!E61 -> No declarado | D53: =IF(C53<>"No declarado", MID(C53,1,100),"") | E53: =IF(C53="No declarado", "")
A54: 3.4b8 | C54: =+'Emer. y compromisos'!E62 -> No declarado | D54: =IF(C54<>"No declarado", MID(C54,1,100),"") | E54: =IF(C54="No declarado", "")
A55: 3.4b9 | C55: =+'Emer. y compromisos'!E63 -> No declarado | D55: =IF(C55<>"No declarado", MID(C55,1,100),"") | E55: =IF(C55="No declarado", "")
A56: 3.4b10 | C56: =+'Emer. y compromisos'!E64 -> No declarado | D56: =IF(C56<>"No declarado", MID(C56,1,100),"") | E56: =IF(C56="No declarado", "")
A57: 3.4b11 | C57: =+'Emer. y compromisos'!E65 -> No declarado | D57: =IF(C57<>"No declarado", MID(C57,1,100),"") | E57: =IF(C57="No declarado", "")
A58: 3.4b12 | C58: =+'Emer. y compromisos'!E66 -> No declarado | D58: =IF(C58<>"No declarado", MID(C58,1,100),"") | E58: =IF(C58="No declarado", "")
A59: 3.4b13 | C59: =+'Emer. y compromisos'!E67 -> No declarado | D59: =IF(C59<>"No declarado", MID(C59,1,100),"") | E59: =IF(C59="No declarado", "")
A60: 3.4c1 | C60: =+'Emer. y compromisos'!E69 -> No declarado | D60: =IF(C60<>"No declarado", MID(C60,1,100),"") | E60: =IF(C60="No declarado", "")
A61: 3.4c2 | C61: =+'Emer. y compromisos'!E70 -> No declarado | D61: =IF(C61<>"No declarado", MID(C61,1,100),"") | E61: =IF(C61="No declarado", "")
A62: 3.4c3 | C62: =+'Emer. y compromisos'!E71 -> No declarado | D62: =IF(C62<>"No declarado", MID(C62,1,100),"") | E62: =IF(C62="No declarado", "")
A63: 3.4c4 | C63: =+'Emer. y compromisos'!E72 -> No declarado | D63: =IF(C63<>"No declarado", MID(C63,1,100),"") | E63: =IF(C63="No declarado", "")
A64: 3.4c5 | C64: =+'Emer. y compromisos'!E73 -> No declarado | D64: =IF(C64<>"No declarado", MID(C64,1,100),"") | E64: =IF(C64="No declarado", "")
A65: 3.4c6 | C65: =+'Emer. y compromisos'!E74 -> No declarado | D65: =IF(C65<>"No declarado", MID(C65,1,100),"") | E65: =IF(C65="No declarado", "")
A66: 3.4c7 | C66: =+'Emer. y compromisos'!E75 -> No declarado | D66: =IF(C66<>"No declarado", MID(C66,1,100),"") | E66: =IF(C66="No declarado", "")
A67: 3.4c8 | C67: =+'Emer. y compromisos'!E76 -> No declarado | D67: =IF(C67<>"No declarado", MID(C67,1,100),"") | E67: =IF(C67="No declarado", "")
A68: 3.4c9 | C68: =+'Emer. y compromisos'!E77 -> No declarado | D68: =IF(C68<>"No declarado", MID(C68,1,100),"") | E68: =IF(C68="No declarado", "")
A69: 3.4c10 | C69: =+'Emer. y compromisos'!E78 -> No declarado | D69: =IF(C69<>"No declarado", MID(C69,1,100),"") | E69: =IF(C69="No declarado", "")
A70: 3.4c11 | C70: =+'Emer. y compromisos'!E79 -> No declarado | D70: =IF(C70<>"No declarado", MID(C70,1,100),"") | E70: =IF(C70="No declarado", "")
A71: 3.4c12 | C71: =+'Emer. y compromisos'!E80 -> No declarado | D71: =IF(C71<>"No declarado", MID(C71,1,100),"") | E71: =IF(C71="No declarado", "")
A72: 3.4c13 | C72: =+'Emer. y compromisos'!E81 -> No declarado | D72: =IF(C72<>"No declarado", MID(C72,1,100),"") | E72: =IF(C72="No declarado", "")
A73: 3.4d1 | C73: =+'Emer. y compromisos'!E83 -> No declarado | D73: =IF(C73<>"No declarado", MID(C73,1,100),"") | E73: =IF(C73="No declarado", "")
A74: 3.4d2 | C74: =+'Emer. y compromisos'!E84 -> No declarado | D74: =IF(C74<>"No declarado", MID(C74,1,100),"") | E74: =IF(C74="No declarado", "")
A75: 3.4d3 | C75: =+'Emer. y compromisos'!E85 -> No declarado | D75: =IF(C75<>"No declarado", MID(C75,1,100),"") | E75: =IF(C75="No declarado", "")
A76: 3.4d4 | C76: =+'Emer. y compromisos'!E86 -> No declarado | D76: =IF(C76<>"No declarado", MID(C76,1,100),"") | E76: =IF(C76="No declarado", "")
A77: 3.4d5 | C77: =+'Emer. y compromisos'!E87 -> No declarado | D77: =IF(C77<>"No declarado", MID(C77,1,100),"") | E77: =IF(C77="No declarado", "")
A78: 3.4d6 | C78: =+'Emer. y compromisos'!E88 -> No declarado | D78: =IF(C78<>"No declarado", MID(C78,1,100),"") | E78: =IF(C78="No declarado", "")
A79: 3.4d7 | C79: =+'Emer. y compromisos'!E89 -> No declarado | D79: =IF(C79<>"No declarado", MID(C79,1,100),"") | E79: =IF(C79="No declarado", "")
A80: 3.4d8 | C80: =+'Emer. y compromisos'!E90 -> No declarado | D80: =IF(C80<>"No declarado", MID(C80,1,100),"") | E80: =IF(C80="No declarado", "")
A81: 3.4d9 | C81: =+'Emer. y compromisos'!E91 -> No declarado | D81: =IF(C81<>"No declarado", MID(C81,1,100),"") | E81: =IF(C81="No declarado", "")
A82: 3.4d10 | C82: =+'Emer. y compromisos'!E92 -> No declarado | D82: =IF(C82<>"No declarado", MID(C82,1,100),"") | E82: =IF(C82="No declarado", "")
A83: 3.4d11 | C83: =+'Emer. y compromisos'!E93 -> No declarado | D83: =IF(C83<>"No declarado", MID(C83,1,100),"") | E83: =IF(C83="No declarado", "")
A84: 3.4d12 | C84: =+'Emer. y compromisos'!E94 -> No declarado | D84: =IF(C84<>"No declarado", MID(C84,1,100),"") | E84: =IF(C84="No declarado", "")
A85: 3.4d13 | C85: =+'Emer. y compromisos'!E95 -> No declarado | D85: =IF(C85<>"No declarado", MID(C85,1,100),"") | E85: =IF(C85="No declarado", "")
A86: 3.5 | C86: =+'Emer. y compromisos'!H118 -> No declarado | D86: =IF(C86<>"No declarado", MID(C86,1,100),"") | E86: =IF(C86="No declarado", "")
A87: 3.5.a | C87: =+'Emer. y compromisos'!E97 -> No declarado | D87: =IF(C87<>"No declarado", MID(C87,1,100),"") | E87: =IF(C87="No declarado", "")
A88: 3.6 | C88: =+'Emer. y compromisos'!H120 -> No declarado | D88: =IF(C88<>"No declarado", MID(C88,1,100),"") | E88: =IF(C88="No declarado", "")
A89: 3.6a1 | C89: =+'Emer. y compromisos'!E100 -> No declarado | D89: =IF(C89<>"No declarado", MID(C89,1,100),"") | E89: =IF(C89="No declarado", "")
A90: 3.6a2 | C90: =+'Emer. y compromisos'!E101 -> No declarado | D90: =IF(C90<>"No declarado", MID(C90,1,100),"") | E90: =IF(C90="No declarado", "")
A91: 3.6a3 | C91: =+'Emer. y compromisos'!E102 -> No declarado | D91: =IF(C91<>"No declarado", MID(C91,1,100),"") | E91: =IF(C91="No declarado", "")
A92: 3.6a4 | C92: =+'Emer. y compromisos'!E103 -> No declarado | D92: =IF(C92<>"No declarado", MID(C92,1,100),"") | E92: =IF(C92="No declarado", "")
A93: 3.6a5 | C93: =+'Emer. y compromisos'!E104 -> No declarado | D93: =IF(C93<>"No declarado", MID(C93,1,100),"") | E93: =IF(C93="No declarado", "")
A94: 3.6b1 | C94: =+'Emer. y compromisos'!E106 -> No declarado | D94: =IF(C94<>"No declarado", MID(C94,1,100),"") | E94: =IF(C94="No declarado", "")
A95: 3.6b2 | C95: =+'Emer. y compromisos'!E107 -> No declarado | D95: =IF(C95<>"No declarado", MID(C95,1,100),"") | E95: =IF(C95="No declarado", "")
A96: 3.6b3 | C96: =+'Emer. y compromisos'!E108 -> No declarado | D96: =IF(C96<>"No declarado", MID(C96,1,100),"") | E96: =IF(C96="No declarado", "")
A97: 3.6b4 | C97: =+'Emer. y compromisos'!E109 -> No declarado | D97: =IF(C97<>"No declarado", MID(C97,1,100),"") | E97: =IF(C97="No declarado", "")
A98: 3.6b5 | C98: =+'Emer. y compromisos'!E110 -> No declarado | D98: =IF(C98<>"No declarado", MID(C98,1,100),"") | E98: =IF(C98="No declarado", "")
A99: 4.1.1 | C99: =+#REF! -> #REF! | D99: =IF(C99<>"No declarado", MID(C99,1,100),"") -> #REF! | E99: =IF(C99="No declarado", "") -> #REF!
A100: 4.2.1 | C100: =+#REF! -> #REF! | D100: =IF(C100<>"No declarado", MID(C100,1,100),"") -> #REF! | E100: =IF(C100="No declarado", "") -> #REF!
...

Sheet Hoja 1
B1: subsistemas | C1: Personas | E1: Año | H1: Trimestre | K1: Mes | N1: Día | O1: Órden | P1: Atributo
B2: Demográfica y Social | C2: 1 | D2: 1 | E2: 1980 | G2: 1 | H2: Primer | J2: 1 | K2: Enero | N2: 1 | O2: Federal | P2: No aplica
B3: Económica | C3: 2 | D3: 2 | E3: 1981 | G3: 2 | H3: Segundo | J3: 2 | K3: Febrero | N3: 2 | O3: Estatal | P3: Ninguno
B4: Geográfica y del Medio Ambiente | C4: 3 | D4: 3 | E4: 1982 | G4: 3 | H4: Tercer | J4: 3 | K4: Marzo | N4: 3 | O4: Municipal
B5: Gobierno, Seguridad Pública e Impartición de Justicia | C5: 4 | D5: 4 | E5: 1983 | G5: 4 | H5: Cuarto | J5: 4 | K5: Abril | N5: 4
C6: 5 | D6: 5 | E6: 1984 | J6: 5 | K6: Mayo | N6: 5
C7: 6 | D7: 6 | E7: 1985 | J7: 6 | K7: Junio | N7: 6
C8: 7 | D8: 7 | E8: 1986 | J8: 7 | K8: Julio | N8: 7
C9: 8 | D9: 8 | E9: 1987 | J9: 8 | K9: Agosto | N9: 8
C10: 9 | D10: 9 | E10: 1988 | J10: 9 | K10: Septiembre | N10: 9
C11: 10 | D11: 10 | E11: 1989 | J11: 10 | K11: Octubre | N11: 10
C12: 11 | D12: 11 | E12: 1990 | J12: 11 | K12: Noviembre | N12: 11
C13: 12 | D13: 12 | E13: 1991 | J13: 12 | K13: Diciembre | N13: 12
C14: 13 | D14: 13 | E14: 1992 | N14: 13
C15: 14 | D15: 14 | E15: 1993 | N15: 14
C16: 15 | D16: 15 | E16: 1994 | N16: 15
C17: 16 | D17: 16 | E17: 1995 | N17: 16
C18: 17 | D18: 17 | E18: 1996 | N18: 17
C19: 18 | D19: 18 | E19: 1997 | N19: 18
C20: 19 | D20: 19 | E20: 1998 | N20: 19
C21: 20 | D21: 20 | E21: 1999 | N21: 20
C22: 21 | D22: 21 | E22: 2000 | N22: 21
C23: 22 | D23: 22 | E23: 2001 | N23: 22
C24: 23 | D24: 23 | E24: 2002 | N24: 23
C25: 24 | D25: 24 | E25: 2003 | N25: 24
... C32: 31 | D32: 31 | E32: 2010 | N32: 31
C33: 32 | D33: 32 | E33: 2011
C34: 33 | D34: 33 | E34: 2012
C35: 34 | D35: 34 | E35: 2013
C36: 35 | D36: 35 | E36: 2014
C37: 36 | D37: 36 | E37: 2015
C38: 37
C39: 38
C40: 39
C41: 40
C42: 41
C43: 42
C44: 43
C45: 44
C46: 45
C47: 46
C48: 47
C49: 48
... C116: 115

Sheet  

Sheet Ficha 1
D4: Ficha técnica para presentar la propuesta de Información de Interés Nacional
D5: Información Estadística
B9: a) Información propuesta:
B11: b) Tematica:
B13: c) Proponente:
B15: d) Subsistema:
B17: e) Fecha de presentación de propuesta:
B19: A) DATOS DE IDENTIFICACIÓN DEL PROYECTO QUE GENERA LA INFORMACIÓN E INSTITUCIÓN RESPONSABLE
B21: 1. Nombre del proyecto estadístico propuesto:
B23: 2. Nombre de la institución responsable del proyecto:
B25: 3.Inscripción del proyecto en el Registro Estadístico Nacional:
B27: 4. Otras instituciones participantes en el proyecto:
B30: B) FUNDAMENTOS DEL PROYECTO
B31: Políticas públicas de alcance nacional
B32: 5. La información estadística propuesta debe generarse porque lo mandata: | E32: Constitución política de los Estados Unidos Mexicanos Título, capítulo, sección, artículo, fracción, párrafo, fecha de última publicación y observaciones
E35: Ley secundaria Título, capítulo, sección, artículo, fracción, párrafo, fecha de última publicación y observaciones
B40: 6. Uso de la información generada para apoyar el programa de la institución u otro interinstitucional | E40: Plan Nacional de Desarrollo
E41: Especifique el nombre del (los) programa (s) y los objetivos, metas e indicadores relacionados
E43: Objetivos, metas e indicadores relacionados
E45: Programa sectorial, regional o especial
E46: Especifique el nombre del (los) programa (s) y los objetivos, metas e indicadores relacionados
E48: Objetivos, metas e indicadores relacionados
E50: Otro ordenamiento legal
E51: Nombre del ordenamiento, especificaciones, fecha de última publicación y observaciones.
E53: Objetivos, metas e indicadores relacionados

Sheet Ficha 2
D4: Ficha técnica para presentar la propuesta de Información de Interés Nacional
D5: Información Estadística
B9: C) ATENCIÓN DE EMERGENCIAS O COMPROMISOS INTERNACIONALES
B10: Protección civil y prevención de desastres
B11: 7. Uso de la información por sistemas de protección civil o de prevención de desastres naturales
B16: 8. Organismo que utiliza el proyercto para prevenir o atender desastres naturales
B19: Compromisos internacionales
B20: 9. Uso de la información generada para atender compromisos establecidos a nivel internacional
E21: Nombre del acuerdo, tratado o compromiso: | H21: Nombre del organismo o país:
E22: 1
E23: 2
E24: 3
E25: 4
E26: 5
B29: 10. Validación de la Secretaría de Relaciones Exteriores
B32: D) METODOLOGÍA DEL PROYECTO ESTADÍSTICO QUE GENERA LA INFORMACIÓN PROPUESTA:
B33: Método de generación aplicado
B35: 11. Método de generación de información estadística
B38: Soporte técnico
B39: 12. Estándares o recomendaciones de organismos nacionales o internacionales aplicados | E39: Nombre | H39: Organismo elaborador
B49: Unidad de observación
B50: 13. Unidad de observación
B54: Periodicidad o frecuencia de ejecución
B56: 14. Periodicidad o frecuencia de ejecución
B59: 15. Cobertura temporal (Datos más recientes)

Sheet Ficha 3
D4: Ficha técnica para presentar la propuesta de Información de Interés Nacional
D5: Información Estadística
B9: 16. Documentos disponibles en el proyecto (Más recientes) | D9: Documento / Año de elaboración / Institución que lo elaboró
D10: PLANEACIÓN GENERAL | I10: (Se anexa un ejemplar de cada documento señalado)
D19: MARCO CONCEPTUAL
D28: CRITERIOS DE VALIDACIÓN
D37: GLOSARIOS
D46: CLASIFICADORES
D55: CUESTIONARIOS
D64: MARCO DE MUESTREO
D73: MÉTODO PARA LA DETERMINACIÓN DEL TAMAÑO Y SELECCIÓN DE LA MUESTRA
D82: RESULTADOS DEL DISEÑO DE LA MUESTRA
D91: MANUALES OPERATIVOS
D92: Manuales de capacitación
D101: Instructivos de llenado de cuestionarios
D110: Manuales de procedimientos para la captación de datos
... D156: DOCUMENTACIÓN DEL PROYECTO Y RESULTADOS

Sheet Ficha 4
D4: Ficha técnica para presentar la propuesta de Información de Interés Nacional
D5: Información Estadística
B9: 17. Indicadores utilizados para medir la calidad de los procesos | H9: (Se anexa metodología de cálculo de los indicadores utilizados y resultados del operativo más reciente disponibles)
E11: PLANEACIÓN DEL PROYECTO
E14: DISEÑO CONCEPTUAL
E17: DISEÑO DE LA MUESTRA
E20: DISEÑO DE LA CAPTACIÓN
E23: DISEÑO DEL PROCESAMIENTO
E26: OPERATIVO DE CAPTACIÓN
E29: PROCESAMIENTO Y LIBERACIÓN DE DATOS
E32: PRESENTACIÓN Y DIVULGACIÓN DE RESULTADOS
B35: D.4 Soporte técnico
B36: 18. Disponibilidad de certificación o validación dada por algún organismo nacional o internacional | E36: Fase o actividad | G36: Organismo certificador | I36: Periodo que cubre
B45: 19. Tipo de asistencia de organismos nacionales o internacionales | E45: Apoyo técnico | G45: Capacitación
B52: 20. Medio de almacenamiento de la información | G52: Recopilación | I52: Almacenamiento
E53: Formatos o expedientes impresos
E54: Archivos electrónicos en hoja de cálculo
E55: Base de datos
E56: Otro

Sheet Hoja1
